BEGIN:VCALENDAR
VERSION:2.0
PRODID:-//ChamberMaster//Event Calendar 2.0//EN
METHOD:PUBLISH
X-PUBLISHED-TTL:P3D
REFRESH-INTERVAL:P3D
CALSCALE:GREGORIAN
BEGIN:VEVENT
DTSTART:20210612T210000Z
DTEND:20210612T220000Z
X-MICROSOFT-CDO-ALLDAYEVENT:FALSE
SUMMARY:Miami Shores Presbyterian Church Service of Healing
DESCRIPTION:The Service of Healing will give us all a space to pause\, remember\, and honor family\, friends\, and neighbors that were lost to COVID in these last 14 months. The service will include music\, Scripture\, silent meditation\, and an opportunity to light candles for those we would like to remember. Christian or not\, all are welcome. Doors are open to all.
X-ALT-DESC;FMTTYPE=text/html:The Service of Healing will give us all a space to pause\, remember\, and honor family\, friends\, and neighbors that were lost to COVID in these last 14 months. The service will include music\, Scripture\, silent meditation\, and an opportunity to light candles for those we would like to remember. Christian or not\, all are welcome. Doors are open to all.
LOCATION:Miami Shores Presbyterian Church
UID:e.1517.10607
SEQUENCE:3
DTSTAMP:20260424T081226Z
URL:https://business.miamishores.com/events/details/miami-shores-presbyterian-church-service-of-healing-10607
END:VEVENT

END:VCALENDAR
