BEGIN:VCALENDAR
VERSION:2.0
PRODID:-//ChamberMaster//Event Calendar 2.0//EN
METHOD:PUBLISH
X-PUBLISHED-TTL:P3D
REFRESH-INTERVAL:P3D
CALSCALE:GREGORIAN
BEGIN:VEVENT
DTSTART:20210422T233000Z
DTEND:20210502T210000Z
X-MICROSOFT-CDO-ALLDAYEVENT:FALSE
SUMMARY:A Class Act
DESCRIPTION:Last seen off-Broadway\, A Class Act is a sophisticated thrill ride that exposes the startling inner workings of our legal system. Described as "engrossing and gripping\," this show examines a world in which greed pervades\, the loyal suffer\, and morality is always relative.
X-ALT-DESC;FMTTYPE=text/html:Last seen off-Broadway\, A Class Act is a sophisticated thrill ride that exposes the startling inner workings of our legal system. Described as &ldquo\;engrossing and gripping\,&rdquo\; this show examines a world in which greed pervades\, the loyal suffer\, and morality is always relative.
LOCATION:The Jewish Cultural Arts Theater 18900 NE 25th Ave\, Miami\, FL 33180
UID:e.1517.10596
SEQUENCE:3
DTSTAMP:20260420T034004Z
URL:https://business.miamishores.com/events/details/a-class-act-10596
END:VEVENT

END:VCALENDAR
